BEGIN:VCALENDAR
VERSION:2.0
PRODID:-//Tukios.com/
BEGIN:VEVENT
UID:8fc15d13-89fa-4495-bdc5-40dd2de3b58c@www.zimmerfuneralhome.com
DTSTAMP:20260420T213029Z
DTSTART:20260424T220000Z
DTEND:20260425T000000Z
SUMMARY:Visitation
DESCRIPTION:
URL:https://www.zimmerfuneralhome.com/obituaries/debra-kumbalek
LOCATION: W2132 Garton Rd  Howards Grove WI 53083
GEO:43.8196775;-87.8018456
END:VEVENT
END:VCALENDAR