BEGIN:VCALENDAR
VERSION:2.0
PRODID:-//Tukios.com/
BEGIN:VEVENT
UID:712cf647-a6f6-4a86-bc3c-68893bdd8615@www.zimmerfuneralhome.com
DTSTAMP:20260420T213401Z
DTSTART:20260425T140000Z
DTEND:20260425T150000Z
SUMMARY:Visitation
DESCRIPTION:
URL:https://www.zimmerfuneralhome.com/obituaries/debra-kumbalek
LOCATION: 319 Giddings Ave  Sheboygan Falls WI 53085
GEO:43.7239162;-87.8159109
END:VEVENT
END:VCALENDAR