BEGIN:VCALENDAR
VERSION:2.0
PRODID:-//Tukios.com/
BEGIN:VEVENT
UID:84a70c9b-b309-447f-852c-cea1d10023e7@www.zimmerfuneralhome.com
DTSTAMP:20260420T213102Z
DTSTART:20260425T150000Z
DTEND:20260425T160000Z
SUMMARY:Mass
DESCRIPTION:
URL:https://www.zimmerfuneralhome.com/obituaries/debra-kumbalek
LOCATION: 319 Giddings Ave  Sheboygan Falls WI 53085
GEO:43.7239162;-87.8159109
END:VEVENT
END:VCALENDAR